BEGIN:VCALENDAR
VERSION:2.0
PRODID:-//Cafgraf - ECPv6.12.0.1//NONSGML v1.0//EN
CALSCALE:GREGORIAN
METHOD:PUBLISH
X-ORIGINAL-URL:https://lecafgraf.org
X-WR-CALDESC:Events for Cafgraf
REFRESH-INTERVAL;VALUE=DURATION:PT1H
X-Robots-Tag:noindex
X-PUBLISHED-TTL:PT1H
BEGIN:VTIMEZONE
TZID:America/Toronto
BEGIN:DAYLIGHT
TZOFFSETFROM:-0500
TZOFFSETTO:-0400
TZNAME:EDT
DTSTART:20270314T070000
END:DAYLIGHT
BEGIN:STANDARD
TZOFFSETFROM:-0400
TZOFFSETTO:-0500
TZNAME:EST
DTSTART:20271107T060000
END:STANDARD
END:VTIMEZONE
BEGIN:VEVENT
DTSTART;TZID=America/Toronto:20271001T100000
DTEND;TZID=America/Toronto:20271001T120000
DTSTAMP:20260420T051637
CREATED:20260108T193140Z
LAST-MODIFIED:20260108T193140Z
UID:10008171-1822384800-1822392000@lecafgraf.org
SUMMARY:Croissant causerie
DESCRIPTION:En compagnie d’un intervenant\, venez déjeuner et discuter autour de sujets variés choisis par vous. \nPour l’inscription et voir la liste des tâches\, aller voir un.e intervenant.e
URL:https://lecafgraf.org/evenement/croissant-causerie-2/2027-10-01/
CATEGORIES:Alimentation
END:VEVENT
BEGIN:VEVENT
DTSTART;TZID=America/Toronto:20271008T100000
DTEND;TZID=America/Toronto:20271008T120000
DTSTAMP:20260420T051637
CREATED:20260108T193140Z
LAST-MODIFIED:20260108T193140Z
UID:10008172-1822989600-1822996800@lecafgraf.org
SUMMARY:Croissant causerie
DESCRIPTION:En compagnie d’un intervenant\, venez déjeuner et discuter autour de sujets variés choisis par vous. \nPour l’inscription et voir la liste des tâches\, aller voir un.e intervenant.e
URL:https://lecafgraf.org/evenement/croissant-causerie-2/2027-10-08/
CATEGORIES:Alimentation
END:VEVENT
BEGIN:VEVENT
DTSTART;TZID=America/Toronto:20271015T100000
DTEND;TZID=America/Toronto:20271015T120000
DTSTAMP:20260420T051637
CREATED:20260108T193140Z
LAST-MODIFIED:20260108T193140Z
UID:10008173-1823594400-1823601600@lecafgraf.org
SUMMARY:Croissant causerie
DESCRIPTION:En compagnie d’un intervenant\, venez déjeuner et discuter autour de sujets variés choisis par vous. \nPour l’inscription et voir la liste des tâches\, aller voir un.e intervenant.e
URL:https://lecafgraf.org/evenement/croissant-causerie-2/2027-10-15/
CATEGORIES:Alimentation
END:VEVENT
BEGIN:VEVENT
DTSTART;TZID=America/Toronto:20271022T100000
DTEND;TZID=America/Toronto:20271022T120000
DTSTAMP:20260420T051637
CREATED:20260108T193140Z
LAST-MODIFIED:20260108T193140Z
UID:10008174-1824199200-1824206400@lecafgraf.org
SUMMARY:Croissant causerie
DESCRIPTION:En compagnie d’un intervenant\, venez déjeuner et discuter autour de sujets variés choisis par vous. \nPour l’inscription et voir la liste des tâches\, aller voir un.e intervenant.e
URL:https://lecafgraf.org/evenement/croissant-causerie-2/2027-10-22/
CATEGORIES:Alimentation
END:VEVENT
BEGIN:VEVENT
DTSTART;TZID=America/Toronto:20271029T100000
DTEND;TZID=America/Toronto:20271029T120000
DTSTAMP:20260420T051637
CREATED:20260108T193140Z
LAST-MODIFIED:20260108T193140Z
UID:10008175-1824804000-1824811200@lecafgraf.org
SUMMARY:Croissant causerie
DESCRIPTION:En compagnie d’un intervenant\, venez déjeuner et discuter autour de sujets variés choisis par vous. \nPour l’inscription et voir la liste des tâches\, aller voir un.e intervenant.e
URL:https://lecafgraf.org/evenement/croissant-causerie-2/2027-10-29/
CATEGORIES:Alimentation
END:VEVENT
END:VCALENDAR